BEGIN:VCALENDAR
VERSION:2.0
PRODID:-//hacksw/handcal//NONSGML v1.0//EN
CALSCALE:GREGORIAN
BEGIN:VEVENT
LOCATION:
DESCRIPTION:https://www.greaterseattleonthecheap.com/event/fall-salmon-spawning-season-in-western-washington-2/
DTSTART;TZID=America/Los_Angeles:20260421T011100
DTEND;TZID=America/Los_Angeles:20260421T011100
SUMMARY:Best time to see Chinook (King) salmon at the Ballard Locks fish ladder
URL;VALUE=URI:https://www.greaterseattleonthecheap.com/event/fall-salmon-spawning-season-in-western-washington-2/
DTSTAMP:20260421T011136
UID:69e73138dbda5
END:VEVENT
END:VCALENDAR