BEGIN:VCALENDAR
VERSION:2.0
PRODID:-//hacksw/handcal//NONSGML v1.0//EN
CALSCALE:GREGORIAN
BEGIN:VEVENT
LOCATION:
DESCRIPTION:https://www.greaterseattleonthecheap.com/event/annual-bird-count-events-4/
DTSTART;TZID=America/Los_Angeles:20260421T012200
DTEND;TZID=America/Los_Angeles:20260421T012200
SUMMARY:2025 "Big Day" bird count (2nd Saturday in October)
URL;VALUE=URI:https://www.greaterseattleonthecheap.com/event/annual-bird-count-events-4/
DTSTAMP:20260421T012200
UID:69e733a8d2115
END:VEVENT
END:VCALENDAR